Workbook

Sheet Notes
A1: Date | B1: Note
A2: 46282 | B2: Data TIF Levy Tab removed
A3: 46282 | B3: Password reset
A4: 46282 | B4: Column Y removed from Data tab.

Sheet Instructions
A2: Instructions: Below are the instructions for reconciling Form 105/102 Section A-1 lines 3-7 (March abstract charges) reported in Gateway Abstract to your tax and billing system.
A4: Step One: From the "Recon" tab, enter your county number in cell C4.
A15: Step Two: Enter the amounts to be reported on the Form 105/102 in rows 17, 34, 48, 62, and 75
A17: Step Three: Review any variances in cells 18, 36, 49, 63, and 76. Any variances will be highlighted in red. If variances appear, below are suggested steps:
B19: (i) Verify the correct data was entered into your spreadsheet
B20: (ii) Identify the taxing district on the 102 where the variance is occurring,
B21: (iii) Review to see if there were any changes to abstract data within your tax and billing system after Gateway Abstract was completed but prior to issuing tax bills.
B22: (iv) Compare the different data points pulled out of Gateway Abstract to your tax and billing system, any differences could reflect the problem. For assistance on this, please contact localgovernment@Comptroller.in.gov.

Sheet Recon
A1: December Form 105/102 Reconciliation Worksheet
A4: 1) Enter your county number | C4: 0
A7: Calculation for Section A-1 Line 3 - Current Property Taxes (Net Tax Column)
A9: Gateway | C9: Gateway | G9: Form 105 | I9: Taxing District (Form 102)
A10: Section | C10: Subsection | E10: Column | G10: Amount | I10: 1 | J10: =I10+1 -> 2 | K10: =J10+1 -> 3 | L10: =K10+1 -> 4 | M10: =L10+1 -> 5 | N10: =M10+1 -> 6 | O10: =N10+1 -> 7 | P10: =O10+1 -> 8 | Q10: =P10+1 -> 9 | ... DF10: =DE10+1 -> 102
A12: Total Taxes Summary | C12: N/A | E12: Total Levy | G12: =SUMIFS(Data!$E$2:$E$2100,Data!$B$2:$B$2100,Recon!$C$4) -> 0 | I12: =SUMIFS(Data!$E$2:$E$2100,Data!$B$2:$B$2100,Recon!$C$4,Data!$C$2:$C$2100,Recon!I10) -> 0 | J12: =SUMIFS(Data!$E$2:$E$2100,Data!$B$2:$B$2100,Recon!$C$4,Data!$C$2:$C$2100,Recon!J10) -> 0 | K12: =SUMIFS(Data!$E$2:$E$2100,Data!$B$2:$B$2100,Recon!$C$4,Data!$C$2:$C$2100,Recon!K10) -> 0 | L12: =SUMIFS(Data!$E$2:$E$2100,Data!$B$2:$B$2100,Recon!$C$4,Data!$C$2:$C$2100,Recon!L10) -> 0 | M12: =SUMIFS(Data!$E$2:$E$2100,Data!$B$2:$B$2100,Recon!$C$4,Data!$C$2:$C$2100,Recon!M10) -> 0 | N12: =SUMIFS(Data!$E$2:$E$2100,Data!$B$2:$B$2100,Recon!$C$4,Data!$C$2:$C$2100,Recon!N10) -> 0 | O12: =SUMIFS(Data!$E$2:$E$2100,Data!$B$2:$B$2100,Recon!$C$4,Data!$C$2:$C$2100,Recon!O10) -> 0 | P12: =SUMIFS(Data!$E$2:$E$2100,Data!$B$2:$B$2100,Recon!$C$4,Data!$C$2:$C$2100,Recon!P10) -> 0 | ... DF12: =SUMIFS(Data!$E$2:$E$2100,Data!$B$2:$B$2100,Recon!$C$4,Data!$C$2:$C$2100,Recon!DF10) -> 0
A13: Less: Total Taxes Summary | C13: N/A | E13: Total Credits | G13: =SUMIFS(Data!$F$2:$F$2100,Data!$B$2:$B$2100,Recon!$C$4) -> 0 | I13: =SUMIFS(Data!$F$2:$F$2100,Data!$B$2:$B$2100,Recon!$C$4,Data!$C$2:$C$2100,Recon!I10) -> 0 | J13: =SUMIFS(Data!$F$2:$F$2100,Data!$B$2:$B$2100,Recon!$C$4,Data!$C$2:$C$2100,Recon!J10) -> 0 | K13: =SUMIFS(Data!$F$2:$F$2100,Data!$B$2:$B$2100,Recon!$C$4,Data!$C$2:$C$2100,Recon!K10) -> 0 | L13: =SUMIFS(Data!$F$2:$F$2100,Data!$B$2:$B$2100,Recon!$C$4,Data!$C$2:$C$2100,Recon!L10) -> 0 | M13: =SUMIFS(Data!$F$2:$F$2100,Data!$B$2:$B$2100,Recon!$C$4,Data!$C$2:$C$2100,Recon!M10) -> 0 | N13: =SUMIFS(Data!$F$2:$F$2100,Data!$B$2:$B$2100,Recon!$C$4,Data!$C$2:$C$2100,Recon!N10) -> 0 | O13: =SUMIFS(Data!$F$2:$F$2100,Data!$B$2:$B$2100,Recon!$C$4,Data!$C$2:$C$2100,Recon!O10) -> 0 | P13: =SUMIFS(Data!$F$2:$F$2100,Data!$B$2:$B$2100,Recon!$C$4,Data!$C$2:$C$2100,Recon!P10) -> 0 | ... DF13: =SUMIFS(Data!$F$2:$F$2100,Data!$B$2:$B$2100,Recon!$C$4,Data!$C$2:$C$2100,Recon!DF10) -> 0
A14: Plus: TIF Total Taxes Summary | C14: N/A | E14: TIF Total Levy | G14: =SUMIFS(Data!$Q$2:$Q$2100,Data!$B$2:$B$2100,Recon!$C$4) -> 0 | I14: =SUMIFS(Data!$Q$2:$Q$2100,Data!$B$2:$B$2100,Recon!$C$4,Data!$C$2:$C$2100,Recon!I10) -> 0 | J14: =SUMIFS(Data!$Q$2:$Q$2100,Data!$B$2:$B$2100,Recon!$C$4,Data!$C$2:$C$2100,Recon!J10) -> 0 | K14: =SUMIFS(Data!$Q$2:$Q$2100,Data!$B$2:$B$2100,Recon!$C$4,Data!$C$2:$C$2100,Recon!K10) -> 0 | L14: =SUMIFS(Data!$Q$2:$Q$2100,Data!$B$2:$B$2100,Recon!$C$4,Data!$C$2:$C$2100,Recon!L10) -> 0 | M14: =SUMIFS(Data!$Q$2:$Q$2100,Data!$B$2:$B$2100,Recon!$C$4,Data!$C$2:$C$2100,Recon!M10) -> 0 | N14: =SUMIFS(Data!$Q$2:$Q$2100,Data!$B$2:$B$2100,Recon!$C$4,Data!$C$2:$C$2100,Recon!N10) -> 0 | O14: =SUMIFS(Data!$Q$2:$Q$2100,Data!$B$2:$B$2100,Recon!$C$4,Data!$C$2:$C$2100,Recon!O10) -> 0 | P14: =SUMIFS(Data!$Q$2:$Q$2100,Data!$B$2:$B$2100,Recon!$C$4,Data!$C$2:$C$2100,Recon!P10) -> 0 | ... DF14: =SUMIFS(Data!$Q$2:$Q$2100,Data!$B$2:$B$2100,Recon!$C$4,Data!$C$2:$C$2100,Recon!DF10) -> 0
A15: Less: TIF Circuit Breaker | C15: TIF Credits Detail | E15: TIF 1%,2%,3%,Over 65 Circuit Breaker | G15: =SUMIFS(Data!$R$2:$R$2100,Data!$B$2:$B$2100,Recon!$C$4) -> 0 | I15: =SUMIFS(Data!$R$2:$R$2100,Data!$B$2:$B$2100,Recon!$C$4,Data!$C$2:$C$2100,Recon!I10) -> 0 | J15: =SUMIFS(Data!$R$2:$R$2100,Data!$B$2:$B$2100,Recon!$C$4,Data!$C$2:$C$2100,Recon!J10) -> 0 | K15: =SUMIFS(Data!$R$2:$R$2100,Data!$B$2:$B$2100,Recon!$C$4,Data!$C$2:$C$2100,Recon!K10) -> 0 | L15: =SUMIFS(Data!$R$2:$R$2100,Data!$B$2:$B$2100,Recon!$C$4,Data!$C$2:$C$2100,Recon!L10) -> 0 | M15: =SUMIFS(Data!$R$2:$R$2100,Data!$B$2:$B$2100,Recon!$C$4,Data!$C$2:$C$2100,Recon!M10) -> 0 | N15: =SUMIFS(Data!$R$2:$R$2100,Data!$B$2:$B$2100,Recon!$C$4,Data!$C$2:$C$2100,Recon!N10) -> 0 | O15: =SUMIFS(Data!$R$2:$R$2100,Data!$B$2:$B$2100,Recon!$C$4,Data!$C$2:$C$2100,Recon!O10) -> 0 | P15: =SUMIFS(Data!$R$2:$R$2100,Data!$B$2:$B$2100,Recon!$C$4,Data!$C$2:$C$2100,Recon!P10) -> 0 | ... DF15: =SUMIFS(Data!$R$2:$R$2100,Data!$B$2:$B$2100,Recon!$C$4,Data!$C$2:$C$2100,Recon!DF10) -> 0
A16: Less: TIF LIT PTRC - All Property | C16: TIF Credits Detail | E16: TIF LIT PTRC - All Property | G16: =SUMIFS(Data!$S$2:$S$2100,Data!$B$2:$B$2100,Recon!$C$4) -> 0 | I16: =SUMIFS(Data!$S$2:$S$2100,Data!$B$2:$B$2100,Recon!$C$4,Data!$C$2:$C$2100,Recon!I10) -> 0 | J16: =SUMIFS(Data!$S$2:$S$2100,Data!$B$2:$B$2100,Recon!$C$4,Data!$C$2:$C$2100,Recon!J10) -> 0 | K16: =SUMIFS(Data!$S$2:$S$2100,Data!$B$2:$B$2100,Recon!$C$4,Data!$C$2:$C$2100,Recon!K10) -> 0 | L16: =SUMIFS(Data!$S$2:$S$2100,Data!$B$2:$B$2100,Recon!$C$4,Data!$C$2:$C$2100,Recon!L10) -> 0 | M16: =SUMIFS(Data!$S$2:$S$2100,Data!$B$2:$B$2100,Recon!$C$4,Data!$C$2:$C$2100,Recon!M10) -> 0 | N16: =SUMIFS(Data!$S$2:$S$2100,Data!$B$2:$B$2100,Recon!$C$4,Data!$C$2:$C$2100,Recon!N10) -> 0 | O16: =SUMIFS(Data!$S$2:$S$2100,Data!$B$2:$B$2100,Recon!$C$4,Data!$C$2:$C$2100,Recon!O10) -> 0 | P16: =SUMIFS(Data!$S$2:$S$2100,Data!$B$2:$B$2100,Recon!$C$4,Data!$C$2:$C$2100,Recon!P10) -> 0 | ... DF16: =SUMIFS(Data!$S$2:$S$2100,Data!$B$2:$B$2100,Recon!$C$4,Data!$C$2:$C$2100,Recon!DF10) -> 0
A17: Gateway Abstract Current Property Taxes (Net Tax) | G17: =G12-G13+G14-G15-G16 -> 0 | I17: =I12-I13+I14-I15-I16 -> 0 | J17: =J12-J13+J14-J15-J16 -> 0 | K17: =K12-K13+K14-K15-K16 -> 0 | L17: =L12-L13+L14-L15-L16 -> 0 | M17: =M12-M13+M14-M15-M16 -> 0 | N17: =N12-N13+N14-N15-N16 -> 0 | O17: =O12-O13+O14-O15-O16 -> 0 | P17: =P12-P13+P14-P15-P16 -> 0 | ... DF17: =DF12-DF13+DF14-DF15-DF16 -> 0
A18: Less: Amount to be entered on Form 105 | G18: 0 | I18: 0 | J18: 0 | K18: 0 | L18: 0 | M18: 0 | N18: 0 | O18: 0 | P18: 0 | Q18: 0 | R18: 0 | S18: 0 | T18: 0 | U18: 0 | V18: 0 | W18: 0 | X18: 0 | Y18: 0 | Z18: 0 | AA18: 0 | AB18: 0 | AC18: 0 | AD18: 0 | AE18: 0 | AF18: 0 | AG18: 0 | AH18: 0 | AI18: 0 | AJ18: 0 | AK18: 0 | AL18: 0 | AM18: 0 | AN18: 0 | AO18: 0 | AP18: 0 | AQ18: 0 | AR18: 0 | AS18: 0 | AT18: 0 | AU18: 0 | AV18: 0 | AW18: 0 | AX18: 0 | AY18: 0 | AZ18: 0 | BA18: 0 | BB18: 0 | BC18: 0 | BD18: 0 | BE18: 0 | BF18: 0 | BG18: 0 | BH18: 0 | BI18: 0 | BJ18: 0 | BK18: 0 | BL18: 0 | BM18: 0 | BN18: 0 | BO18: 0 | BP18: 0 | BQ18: 0 | BR18: 0 | BS18: 0 | BT18: 0 | BU18: 0 | BV18: 0 | BW18: 0 | BX18: 0 | BY18: 0 | BZ18: 0 | CA18: 0 | CB18: 0 | CC18: 0 | CD18: 0 | CE18: 0 | CF18: 0 | CG18: 0 | CH18: 0 | CI18: 0 | CJ18: 0 | CK18: 0 | CL18: 0 | CM18: 0 | CN18: 0 | CO18: 0 | CP18: 0 | CQ18: 0 | CR18: 0 | CS18: 0 | CT18: 0 | CU18: 0 | CV18: 0 | CW18: 0 | CX18: 0 | CY18: 0 | CZ18: 0 | DA18: 0 | DB18: 0 | DC18: 0 | DD18: 0 | DE18: 0 | DF18: 0
A19: Variance | G19: =G17-G18 -> 0 | I19: =I17-I18 -> 0 | J19: =J17-J18 -> 0 | K19: =K17-K18 -> 0 | L19: =L17-L18 -> 0 | M19: =M17-M18 -> 0 | N19: =N17-N18 -> 0 | O19: =O17-O18 -> 0 | P19: =P17-P18 -> 0 | ... DF19: =DF17-DF18 -> 0
A23: Calculation for Section A-1 Line 3 - Current Property Taxes (Property Tax Relief Column)
A25: Gateway | C25: Gateway | G25: Form 105 | I25: Taxing District (Form 102)
A26: Section | C26: Subsection | E26: Column | G26: Amount | I26: 1 | J26: =I26+1 -> 2 | K26: =J26+1 -> 3 | L26: =K26+1 -> 4 | M26: =L26+1 -> 5 | N26: =M26+1 -> 6 | O26: =N26+1 -> 7 | P26: =O26+1 -> 8 | Q26: =P26+1 -> 9 | ... DF26: =DE26+1 -> 102
A28: Total Taxes Summary | C28: Credits Detail | E28: LIT PTRC - 1% AV | G28: =SUMIFS(Data!$I$2:$I$2100,Data!$B$2:$B$2100,Recon!$C$4) -> 0 | I28: =SUMIFS(Data!$I$2:$I$2100,Data!$B$2:$B$2100,Recon!$C$4,Data!$C$2:$C$2100,Recon!I10) -> 0 | J28: =SUMIFS(Data!$I$2:$I$2100,Data!$B$2:$B$2100,Recon!$C$4,Data!$C$2:$C$2100,Recon!J10) -> 0 | K28: =SUMIFS(Data!$I$2:$I$2100,Data!$B$2:$B$2100,Recon!$C$4,Data!$C$2:$C$2100,Recon!K10) -> 0 | L28: =SUMIFS(Data!$I$2:$I$2100,Data!$B$2:$B$2100,Recon!$C$4,Data!$C$2:$C$2100,Recon!L10) -> 0 | M28: =SUMIFS(Data!$I$2:$I$2100,Data!$B$2:$B$2100,Recon!$C$4,Data!$C$2:$C$2100,Recon!M10) -> 0 | N28: =SUMIFS(Data!$I$2:$I$2100,Data!$B$2:$B$2100,Recon!$C$4,Data!$C$2:$C$2100,Recon!N10) -> 0 | O28: =SUMIFS(Data!$I$2:$I$2100,Data!$B$2:$B$2100,Recon!$C$4,Data!$C$2:$C$2100,Recon!O10) -> 0 | P28: =SUMIFS(Data!$I$2:$I$2100,Data!$B$2:$B$2100,Recon!$C$4,Data!$C$2:$C$2100,Recon!P10) -> 0 | ... DF28: =SUMIFS(Data!$I$2:$I$2100,Data!$B$2:$B$2100,Recon!$C$4,Data!$C$2:$C$2100,Recon!DF10) -> 0
A29: Plus: Total Taxes Summary | C29: Credits Detail | E29: LIT PTRC - 2% AV | G29: =SUMIFS(Data!$J$2:$J$2100,Data!$B$2:$B$2100,Recon!$C$4) -> 0 | I29: =SUMIFS(Data!$J$2:$J$2100,Data!$B$2:$B$2100,Recon!$C$4,Data!$C$2:$C$2100,Recon!I10) -> 0 | J29: =SUMIFS(Data!$J$2:$J$2100,Data!$B$2:$B$2100,Recon!$C$4,Data!$C$2:$C$2100,Recon!J10) -> 0 | K29: =SUMIFS(Data!$J$2:$J$2100,Data!$B$2:$B$2100,Recon!$C$4,Data!$C$2:$C$2100,Recon!K10) -> 0 | L29: =SUMIFS(Data!$J$2:$J$2100,Data!$B$2:$B$2100,Recon!$C$4,Data!$C$2:$C$2100,Recon!L10) -> 0 | M29: =SUMIFS(Data!$J$2:$J$2100,Data!$B$2:$B$2100,Recon!$C$4,Data!$C$2:$C$2100,Recon!M10) -> 0 | N29: =SUMIFS(Data!$J$2:$J$2100,Data!$B$2:$B$2100,Recon!$C$4,Data!$C$2:$C$2100,Recon!N10) -> 0 | O29: =SUMIFS(Data!$J$2:$J$2100,Data!$B$2:$B$2100,Recon!$C$4,Data!$C$2:$C$2100,Recon!O10) -> 0 | P29: =SUMIFS(Data!$J$2:$J$2100,Data!$B$2:$B$2100,Recon!$C$4,Data!$C$2:$C$2100,Recon!P10) -> 0 | ... DF29: =SUMIFS(Data!$J$2:$J$2100,Data!$B$2:$B$2100,Recon!$C$4,Data!$C$2:$C$2100,Recon!DF10) -> 0
A30: Plus: Total Taxes Summary | C30: Credits Detail | E30: LIT PTRC - 3% AV | G30: =SUMIFS(Data!$K$2:$K$2100,Data!$B$2:$B$2100,Recon!$C$4) -> 0 | I30: =SUMIFS(Data!$K$2:$K$2100,Data!$B$2:$B$2100,Recon!$C$4,Data!$C$2:$C$2100,Recon!I10) -> 0 | J30: =SUMIFS(Data!$K$2:$K$2100,Data!$B$2:$B$2100,Recon!$C$4,Data!$C$2:$C$2100,Recon!J10) -> 0 | K30: =SUMIFS(Data!$K$2:$K$2100,Data!$B$2:$B$2100,Recon!$C$4,Data!$C$2:$C$2100,Recon!K10) -> 0 | L30: =SUMIFS(Data!$K$2:$K$2100,Data!$B$2:$B$2100,Recon!$C$4,Data!$C$2:$C$2100,Recon!L10) -> 0 | M30: =SUMIFS(Data!$K$2:$K$2100,Data!$B$2:$B$2100,Recon!$C$4,Data!$C$2:$C$2100,Recon!M10) -> 0 | N30: =SUMIFS(Data!$K$2:$K$2100,Data!$B$2:$B$2100,Recon!$C$4,Data!$C$2:$C$2100,Recon!N10) -> 0 | O30: =SUMIFS(Data!$K$2:$K$2100,Data!$B$2:$B$2100,Recon!$C$4,Data!$C$2:$C$2100,Recon!O10) -> 0 | P30: =SUMIFS(Data!$K$2:$K$2100,Data!$B$2:$B$2100,Recon!$C$4,Data!$C$2:$C$2100,Recon!P10) -> 0 | ... DF30: =SUMIFS(Data!$K$2:$K$2100,Data!$B$2:$B$2100,Recon!$C$4,Data!$C$2:$C$2100,Recon!DF10) -> 0
A31: Plus: Total Taxes Summary | C31: Credits Detail | E31: LIT PTRC - Residential Property | G31: =SUMIFS(Data!$L$2:$L$2100,Data!$B$2:$B$2100,Recon!$C$4) -> 0 | I31: =SUMIFS(Data!$L$2:$L$2100,Data!$B$2:$B$2100,Recon!$C$4,Data!$C$2:$C$2100,Recon!I10) -> 0 | J31: =SUMIFS(Data!$L$2:$L$2100,Data!$B$2:$B$2100,Recon!$C$4,Data!$C$2:$C$2100,Recon!J10) -> 0 | K31: =SUMIFS(Data!$L$2:$L$2100,Data!$B$2:$B$2100,Recon!$C$4,Data!$C$2:$C$2100,Recon!K10) -> 0 | L31: =SUMIFS(Data!$L$2:$L$2100,Data!$B$2:$B$2100,Recon!$C$4,Data!$C$2:$C$2100,Recon!L10) -> 0 | M31: =SUMIFS(Data!$L$2:$L$2100,Data!$B$2:$B$2100,Recon!$C$4,Data!$C$2:$C$2100,Recon!M10) -> 0 | N31: =SUMIFS(Data!$L$2:$L$2100,Data!$B$2:$B$2100,Recon!$C$4,Data!$C$2:$C$2100,Recon!N10) -> 0 | O31: =SUMIFS(Data!$L$2:$L$2100,Data!$B$2:$B$2100,Recon!$C$4,Data!$C$2:$C$2100,Recon!O10) -> 0 | P31: =SUMIFS(Data!$L$2:$L$2100,Data!$B$2:$B$2100,Recon!$C$4,Data!$C$2:$C$2100,Recon!P10) -> 0 | ... DF31: =SUMIFS(Data!$L$2:$L$2100,Data!$B$2:$B$2100,Recon!$C$4,Data!$C$2:$C$2100,Recon!DF10) -> 0
A32: Plus: Total Taxes Summary | C32: Credits Detail | E32: LIT PTRC - All Property | G32: =SUMIFS(Data!$M$2:$M$2100,Data!$B$2:$B$2100,Recon!$C$4) -> 0 | I32: =SUMIFS(Data!$M$2:$M$2100,Data!$B$2:$B$2100,Recon!$C$4,Data!$C$2:$C$2100,Recon!I10) -> 0 | J32: =SUMIFS(Data!$M$2:$M$2100,Data!$B$2:$B$2100,Recon!$C$4,Data!$C$2:$C$2100,Recon!J10) -> 0 | K32: =SUMIFS(Data!$M$2:$M$2100,Data!$B$2:$B$2100,Recon!$C$4,Data!$C$2:$C$2100,Recon!K10) -> 0 | L32: =SUMIFS(Data!$M$2:$M$2100,Data!$B$2:$B$2100,Recon!$C$4,Data!$C$2:$C$2100,Recon!L10) -> 0 | M32: =SUMIFS(Data!$M$2:$M$2100,Data!$B$2:$B$2100,Recon!$C$4,Data!$C$2:$C$2100,Recon!M10) -> 0 | N32: =SUMIFS(Data!$M$2:$M$2100,Data!$B$2:$B$2100,Recon!$C$4,Data!$C$2:$C$2100,Recon!N10) -> 0 | O32: =SUMIFS(Data!$M$2:$M$2100,Data!$B$2:$B$2100,Recon!$C$4,Data!$C$2:$C$2100,Recon!O10) -> 0 | P32: =SUMIFS(Data!$M$2:$M$2100,Data!$B$2:$B$2100,Recon!$C$4,Data!$C$2:$C$2100,Recon!P10) -> 0 | ... DF32: =SUMIFS(Data!$M$2:$M$2100,Data!$B$2:$B$2100,Recon!$C$4,Data!$C$2:$C$2100,Recon!DF10) -> 0
A33: Plus TIF Total Taxes Summary | C33: TIF Credits Detail | E33: Total of TIF LIT PTRC Columns | G33: =SUMIFS(Data!$S$2:$S$2100,Data!$B$2:$B$2100,Recon!$C$4) -> 0 | I33: =SUMIFS(Data!$S$2:$S$2100,Data!$B$2:$B$2100,Recon!$C$4,Data!$C$2:$C$2100,Recon!I10) -> 0 | J33: =SUMIFS(Data!$S$2:$S$2100,Data!$B$2:$B$2100,Recon!$C$4,Data!$C$2:$C$2100,Recon!J10) -> 0 | K33: =SUMIFS(Data!$S$2:$S$2100,Data!$B$2:$B$2100,Recon!$C$4,Data!$C$2:$C$2100,Recon!K10) -> 0 | L33: =SUMIFS(Data!$S$2:$S$2100,Data!$B$2:$B$2100,Recon!$C$4,Data!$C$2:$C$2100,Recon!L10) -> 0 | M33: =SUMIFS(Data!$S$2:$S$2100,Data!$B$2:$B$2100,Recon!$C$4,Data!$C$2:$C$2100,Recon!M10) -> 0 | N33: =SUMIFS(Data!$S$2:$S$2100,Data!$B$2:$B$2100,Recon!$C$4,Data!$C$2:$C$2100,Recon!N10) -> 0 | O33: =SUMIFS(Data!$S$2:$S$2100,Data!$B$2:$B$2100,Recon!$C$4,Data!$C$2:$C$2100,Recon!O10) -> 0 | P33: =SUMIFS(Data!$S$2:$S$2100,Data!$B$2:$B$2100,Recon!$C$4,Data!$C$2:$C$2100,Recon!P10) -> 0 | ... DF33: =SUMIFS(Data!$S$2:$S$2100,Data!$B$2:$B$2100,Recon!$C$4,Data!$C$2:$C$2100,Recon!DF10) -> 0
A34: Gateway Abstract Current Property Taxes (PTR) | G34: =G28+G29+G31+G30+G32+G33 -> 0 | I34: =I28+I29+I31+I30+I32+I33 -> 0 | J34: =J28+J29+J31+J30+J32+J33 -> 0 | K34: =K28+K29+K31+K30+K32+K33 -> 0 | L34: =L28+L29+L31+L30+L32+L33 -> 0 | M34: =M28+M29+M31+M30+M32+M33 -> 0 | N34: =N28+N29+N31+N30+N32+N33 -> 0 | O34: =O28+O29+O31+O30+O32+O33 -> 0 | P34: =P28+P29+P31+P30+P32+P33 -> 0 | ... DF34: =DF28+DF29+DF31+DF30+DF32+DF33 -> 0
A35: Less: Amount to be entered on Form 105 | G35: 0 | I35: 0 | J35: 0
A36: Variance | G36: =+G34-G35 -> 0 | I36: =I34-I35 -> 0 | J36: =J34-J35 -> 0 | K36: =K34-K35 -> 0 | L36: =L34-L35 -> 0 | M36: =M34-M35 -> 0 | N36: =N34-N35 -> 0 | O36: =O34-O35 -> 0 | P36: =P34-P35 -> 0 | ... DF36: =DF34-DF35 -> 0
A40: Calculation for Section A-1 Line 4 - Late Assessment Penalty
A42: Gateway | C42: Gateway | G42: Form 105 | I42: Taxing District (Form 102)
A43: Section | C43: Subsection | E43: Column | G43: Amount | I43: 1 | J43: =I43+1 -> 2 | K43: =J43+1 -> 3 | L43: =K43+1 -> 4 | M43: =L43+1 -> 5 | N43: =M43+1 -> 6 | O43: =N43+1 -> 7 | P43: =O43+1 -> 8 | Q43: =P43+1 -> 9 | ... DF43: =DE43+1 -> 102
A45: Total Taxes Summary | C45: Penalties and Interest Detail | E45: Personal Property Late Assessment Penalties | G45: =SUMIFS(Data!$O$2:$O$2100,Data!$B$2:$B$2100,Recon!$C$4) -> 0 | I45: =SUMIFS(Data!$O$2:$O$2100,Data!$B$2:$B$2100,Recon!$C$4,Data!$C$2:$C$2100,Recon!I10) -> 0 | J45: =SUMIFS(Data!$O$2:$O$2100,Data!$B$2:$B$2100,Recon!$C$4,Data!$C$2:$C$2100,Recon!J10) -> 0 | K45: =SUMIFS(Data!$O$2:$O$2100,Data!$B$2:$B$2100,Recon!$C$4,Data!$C$2:$C$2100,Recon!K10) -> 0 | L45: =SUMIFS(Data!$O$2:$O$2100,Data!$B$2:$B$2100,Recon!$C$4,Data!$C$2:$C$2100,Recon!L10) -> 0 | M45: =SUMIFS(Data!$O$2:$O$2100,Data!$B$2:$B$2100,Recon!$C$4,Data!$C$2:$C$2100,Recon!M10) -> 0 | N45: =SUMIFS(Data!$O$2:$O$2100,Data!$B$2:$B$2100,Recon!$C$4,Data!$C$2:$C$2100,Recon!N10) -> 0 | O45: =SUMIFS(Data!$O$2:$O$2100,Data!$B$2:$B$2100,Recon!$C$4,Data!$C$2:$C$2100,Recon!O10) -> 0 | P45: =SUMIFS(Data!$O$2:$O$2100,Data!$B$2:$B$2100,Recon!$C$4,Data!$C$2:$C$2100,Recon!P10) -> 0 | ... DF45: =SUMIFS(Data!$O$2:$O$2100,Data!$B$2:$B$2100,Recon!$C$4,Data!$C$2:$C$2100,Recon!DF10) -> 0
A46: Plus: Total Taxes Summary | C46: Penalties and Interest Detail | E46: Oil and Gas Late Assessment Penalties | G46: =SUMIFS(Data!$P$2:$P$2100,Data!$B$2:$B$2100,Recon!$C$4) -> 0 | I46: =SUMIFS(Data!$P$2:$P$2100,Data!$B$2:$B$2100,Recon!$C$4,Data!$C$2:$C$2100,Recon!I10) -> 0 | J46: =SUMIFS(Data!$P$2:$P$2100,Data!$B$2:$B$2100,Recon!$C$4,Data!$C$2:$C$2100,Recon!J10) -> 0 | K46: =SUMIFS(Data!$P$2:$P$2100,Data!$B$2:$B$2100,Recon!$C$4,Data!$C$2:$C$2100,Recon!K10) -> 0 | L46: =SUMIFS(Data!$P$2:$P$2100,Data!$B$2:$B$2100,Recon!$C$4,Data!$C$2:$C$2100,Recon!L10) -> 0 | M46: =SUMIFS(Data!$P$2:$P$2100,Data!$B$2:$B$2100,Recon!$C$4,Data!$C$2:$C$2100,Recon!M10) -> 0 | N46: =SUMIFS(Data!$P$2:$P$2100,Data!$B$2:$B$2100,Recon!$C$4,Data!$C$2:$C$2100,Recon!N10) -> 0 | O46: =SUMIFS(Data!$P$2:$P$2100,Data!$B$2:$B$2100,Recon!$C$4,Data!$C$2:$C$2100,Recon!O10) -> 0 | P46: =SUMIFS(Data!$P$2:$P$2100,Data!$B$2:$B$2100,Recon!$C$4,Data!$C$2:$C$2100,Recon!P10) -> 0 | ... DF46: =SUMIFS(Data!$P$2:$P$2100,Data!$B$2:$B$2100,Recon!$C$4,Data!$C$2:$C$2100,Recon!DF10) -> 0
A47: Plus: TIF Total Taxes Summary | C47: TIF Penalties and Interest Detail | E47: TIF Late Assessment Penalties | G47: =SUMIFS(Data!$U$2:$U$2100,Data!$B$2:$B$2100,Recon!$C$4) -> 0 | I47: =SUMIFS(Data!$U$2:$U$2100,Data!$B$2:$B$2100,Recon!$C$4,Data!$C$2:$C$2100,Recon!I10) -> 0 | J47: =SUMIFS(Data!$U$2:$U$2100,Data!$B$2:$B$2100,Recon!$C$4,Data!$C$2:$C$2100,Recon!J10) -> 0 | K47: =SUMIFS(Data!$U$2:$U$2100,Data!$B$2:$B$2100,Recon!$C$4,Data!$C$2:$C$2100,Recon!K10) -> 0 | L47: =SUMIFS(Data!$U$2:$U$2100,Data!$B$2:$B$2100,Recon!$C$4,Data!$C$2:$C$2100,Recon!L10) -> 0 | M47: =SUMIFS(Data!$U$2:$U$2100,Data!$B$2:$B$2100,Recon!$C$4,Data!$C$2:$C$2100,Recon!M10) -> 0 | N47: =SUMIFS(Data!$U$2:$U$2100,Data!$B$2:$B$2100,Recon!$C$4,Data!$C$2:$C$2100,Recon!N10) -> 0 | O47: =SUMIFS(Data!$U$2:$U$2100,Data!$B$2:$B$2100,Recon!$C$4,Data!$C$2:$C$2100,Recon!O10) -> 0 | P47: =SUMIFS(Data!$U$2:$U$2100,Data!$B$2:$B$2100,Recon!$C$4,Data!$C$2:$C$2100,Recon!P10) -> 0 | ... DF47: =SUMIFS(Data!$U$2:$U$2100,Data!$B$2:$B$2100,Recon!$C$4,Data!$C$2:$C$2100,Recon!DF10) -> 0
A48: Gateway Abstract Late Assessment Penalties | G48: =SUM(G45:G47) -> 0 | I48: =SUM(I45:I47) -> 0 | J48: =SUM(J45:J47) -> 0 | K48: =SUM(K45:K47) -> 0 | L48: =SUM(L45:L47) -> 0 | M48: =SUM(M45:M47) -> 0 | N48: =SUM(N45:N47) -> 0 | O48: =SUM(O45:O47) -> 0 | P48: =SUM(P45:P47) -> 0 | ... DF48: =SUM(DF45:DF47) -> 0
A49: Less: Amount to be entered on Form 105 | G49: 0 | I49: 0 | J49: 0 | K49: 0 | L49: 0 | M49: 0 | N49: 0 | O49: 0 | P49: 0 | Q49: 0 | R49: 0 | S49: 0 | T49: 0 | U49: 0 | V49: 0 | W49: 0 | X49: 0 | Y49: 0 | Z49: 0 | AA49: 0 | AB49: 0 | AC49: 0 | AD49: 0 | AE49: 0 | AF49: 0 | AG49: 0 | AH49: 0 | AI49: 0 | AJ49: 0 | AK49: 0 | AL49: 0 | AM49: 0 | AN49: 0 | AO49: 0 | AP49: 0 | AQ49: 0 | AR49: 0 | AS49: 0 | AT49: 0 | AU49: 0 | AV49: 0 | AW49: 0 | AX49: 0 | AY49: 0 | AZ49: 0 | BA49: 0 | BB49: 0 | BC49: 0 | BD49: 0 | BE49: 0 | BF49: 0 | BG49: 0 | BH49: 0 | BI49: 0 | BJ49: 0 | BK49: 0 | BL49: 0 | BM49: 0 | BN49: 0 | BO49: 0 | BP49: 0 | BQ49: 0 | BR49: 0 | BS49: 0 | BT49: 0 | BU49: 0 | BV49: 0 | BW49: 0 | BX49: 0 | BY49: 0 | BZ49: 0 | CA49: 0 | CB49: 0 | CC49: 0 | CD49: 0 | CE49: 0 | CF49: 0 | CG49: 0 | CH49: 0 | CI49: 0 | CJ49: 0 | CK49: 0 | CL49: 0 | CM49: 0 | CN49: 0 | CO49: 0 | CP49: 0 | CQ49: 0 | CR49: 0 | CS49: 0 | CT49: 0 | CU49: 0 | CV49: 0 | CW49: 0 | CX49: 0 | CY49: 0 | CZ49: 0 | DA49: 0 | DB49: 0 | DC49: 0 | DD49: 0 | DE49: 0 | DF49: 0
A50: Variance | G50: =G48-G49 -> 0 | I50: =I48-I49 -> 0 | J50: =J48-J49 -> 0 | K50: =K48-K49 -> 0 | L50: =L48-L49 -> 0 | M50: =M48-M49 -> 0 | N50: =N48-N49 -> 0 | O50: =O48-O49 -> 0 | P50: =P48-P49 -> 0 | ... DF50: =DF48-DF49 -> 0
A54: Calculation for Section A-1 Line 5 - Statement Processing Charge
A56: Gateway | C56: Gateway | G56: Form 105 | I56: Taxing District (Form 102)
A57: Section | C57: Subsection | E57: Column | G57: Amount | I57: 1 | J57: =I57+1 -> 2 | K57: =J57+1 -> 3 | L57: =K57+1 -> 4 | M57: =L57+1 -> 5 | N57: =M57+1 -> 6 | O57: =N57+1 -> 7 | P57: =O57+1 -> 8 | Q57: =P57+1 -> 9 | ... DF57: =DE57+1 -> 102
A59: Total Taxes Summary | C59: N/A | E59: Statement Processing Charges | G59: =SUMIFS(Data!$G$2:$G$2100,Data!$B$2:$B$2100,Recon!$C$4) -> 0 | I59: =SUMIFS(Data!$G$2:$G$2100,Data!$B$2:$B$2100,Recon!$C$4,Data!$C$2:$C$2100,Recon!I10) -> 0 | J59: =SUMIFS(Data!$G$2:$G$2100,Data!$B$2:$B$2100,Recon!$C$4,Data!$C$2:$C$2100,Recon!J10) -> 0 | K59: =SUMIFS(Data!$G$2:$G$2100,Data!$B$2:$B$2100,Recon!$C$4,Data!$C$2:$C$2100,Recon!K10) -> 0 | L59: =SUMIFS(Data!$G$2:$G$2100,Data!$B$2:$B$2100,Recon!$C$4,Data!$C$2:$C$2100,Recon!L10) -> 0 | M59: =SUMIFS(Data!$G$2:$G$2100,Data!$B$2:$B$2100,Recon!$C$4,Data!$C$2:$C$2100,Recon!M10) -> 0 | N59: =SUMIFS(Data!$G$2:$G$2100,Data!$B$2:$B$2100,Recon!$C$4,Data!$C$2:$C$2100,Recon!N10) -> 0 | O59: =SUMIFS(Data!$G$2:$G$2100,Data!$B$2:$B$2100,Recon!$C$4,Data!$C$2:$C$2100,Recon!O10) -> 0 | P59: =SUMIFS(Data!$G$2:$G$2100,Data!$B$2:$B$2100,Recon!$C$4,Data!$C$2:$C$2100,Recon!P10) -> 0 | ... DF59: =SUMIFS(Data!$G$2:$G$2100,Data!$B$2:$B$2100,Recon!$C$4,Data!$C$2:$C$2100,Recon!DF10) -> 0
A60: Plus: Total Taxes Summary | C60: N/A | E60: Statement Processing Charges Oil and Gas | G60: =SUMIFS(Data!$H$2:$H$2100,Data!$B$2:$B$2100,Recon!$C$4) -> 0 | I60: =SUMIFS(Data!$H$2:$H$2100,Data!$B$2:$B$2100,Recon!$C$4,Data!$C$2:$C$2100,Recon!I10) -> 0 | J60: =SUMIFS(Data!$H$2:$H$2100,Data!$B$2:$B$2100,Recon!$C$4,Data!$C$2:$C$2100,Recon!J10) -> 0 | K60: =SUMIFS(Data!$H$2:$H$2100,Data!$B$2:$B$2100,Recon!$C$4,Data!$C$2:$C$2100,Recon!K10) -> 0 | L60: =SUMIFS(Data!$H$2:$H$2100,Data!$B$2:$B$2100,Recon!$C$4,Data!$C$2:$C$2100,Recon!L10) -> 0 | M60: =SUMIFS(Data!$H$2:$H$2100,Data!$B$2:$B$2100,Recon!$C$4,Data!$C$2:$C$2100,Recon!M10) -> 0 | N60: =SUMIFS(Data!$H$2:$H$2100,Data!$B$2:$B$2100,Recon!$C$4,Data!$C$2:$C$2100,Recon!N10) -> 0 | O60: =SUMIFS(Data!$H$2:$H$2100,Data!$B$2:$B$2100,Recon!$C$4,Data!$C$2:$C$2100,Recon!O10) -> 0 | P60: =SUMIFS(Data!$H$2:$H$2100,Data!$B$2:$B$2100,Recon!$C$4,Data!$C$2:$C$2100,Recon!P10) -> 0 | ... DF60: =SUMIFS(Data!$H$2:$H$2100,Data!$B$2:$B$2100,Recon!$C$4,Data!$C$2:$C$2100,Recon!DF10) -> 0
A61: Plus: TIF Total Taxes Summary | C61: N/A | E61: TIF Statement Processing Charges | G61: =SUMIFS(Data!$V$2:$V$2100,Data!$B$2:$B$2100,Recon!$C$4) -> 0 | I61: =SUMIFS(Data!$V$2:$V$2100,Data!$B$2:$B$2100,Recon!$C$4,Data!$C$2:$C$2100,Recon!I10) -> 0 | J61: =SUMIFS(Data!$V$2:$V$2100,Data!$B$2:$B$2100,Recon!$C$4,Data!$C$2:$C$2100,Recon!J10) -> 0 | K61: =SUMIFS(Data!$V$2:$V$2100,Data!$B$2:$B$2100,Recon!$C$4,Data!$C$2:$C$2100,Recon!K10) -> 0 | L61: =SUMIFS(Data!$V$2:$V$2100,Data!$B$2:$B$2100,Recon!$C$4,Data!$C$2:$C$2100,Recon!L10) -> 0 | M61: =SUMIFS(Data!$V$2:$V$2100,Data!$B$2:$B$2100,Recon!$C$4,Data!$C$2:$C$2100,Recon!M10) -> 0 | N61: =SUMIFS(Data!$V$2:$V$2100,Data!$B$2:$B$2100,Recon!$C$4,Data!$C$2:$C$2100,Recon!N10) -> 0 | O61: =SUMIFS(Data!$V$2:$V$2100,Data!$B$2:$B$2100,Recon!$C$4,Data!$C$2:$C$2100,Recon!O10) -> 0 | P61: =SUMIFS(Data!$V$2:$V$2100,Data!$B$2:$B$2100,Recon!$C$4,Data!$C$2:$C$2100,Recon!P10) -> 0 | ... DF61: =SUMIFS(Data!$V$2:$V$2100,Data!$B$2:$B$2100,Recon!$C$4,Data!$C$2:$C$2100,Recon!DF10) -> 0
...

Sheet Recon (MARION ONLY)
A1: December Form 105/102 Reconciliation Worksheet
A4: 1) Enter your county number | C4: 49
A7: Calculation for Section A-1 Line 3 - Current Property Taxes (Net Tax Column)
A9: Gateway | C9: Gateway | G9: Form 105 | I9: Taxing District (Form 102)
A10: Section | C10: Subsection | E10: Column | G10: Amount | I10: 101 | J10: 102 | K10: 200 | L10: 201 | M10: 270 | N10: 274 | O10: 300 | P10: 302 | Q10: 320 | R10: 376 | S10: 382 | T10: 400 | U10: 401 | V10: 407 | W10: 474 | X10: 476 | Y10: 500 | Z10: 501 | AA10: 502 | AB10: 513 | AC10: 520 | AD10: 523 | AE10: 570 | AF10: 574 | AG10: 576 | AH10: 600 | AI10: 601 | AJ10: 604 | AK10: 674 | AL10: 676 | AM10: 682 | AN10: 700 | AO10: 701 | AP10: 702 | AQ10: 716 | AR10: 724 | AS10: 770 | AT10: 774 | AU10: 776 | AV10: 800 | AW10: 801 | AX10: 805 | AY10: 806 | AZ10: 809 | BA10: 811 | BB10: 815 | BC10: 817 | BD10: 820 | BE10: 822 | BF10: 874 | BG10: 876 | BH10: 900 | BI10: 901 | BJ10: 904 | BK10: 914 | BL10: 930 | BM10: 970 | BN10: 974 | BO10: 976 | BP10: 979 | BQ10: 982
A12: Total Taxes Summary | C12: N/A | E12: Total Levy | G12: =SUMIFS(Data!$E$2:$E$2074,Data!$B$2:$B$2074,'Recon (MARION ONLY)'!$C$4) -> 1.8769117e+09 | I12: =SUMIFS(Data!$E$2:$E$2074,Data!$B$2:$B$2074,'Recon (MARION ONLY)'!$C$4,Data!$C$2:$C$2074,'Recon (MARION ONLY)'!I10) -> 3.0779296e+08 | J12: =SUMIFS(Data!$E$2:$E$2074,Data!$B$2:$B$2074,'Recon (MARION ONLY)'!$C$4,Data!$C$2:$C$2074,'Recon (MARION ONLY)'!J10) -> 8042639.2 | K12: =SUMIFS(Data!$E$2:$E$2074,Data!$B$2:$B$2074,'Recon (MARION ONLY)'!$C$4,Data!$C$2:$C$2074,'Recon (MARION ONLY)'!K10) -> 80917426 | L12: =SUMIFS(Data!$E$2:$E$2074,Data!$B$2:$B$2074,'Recon (MARION ONLY)'!$C$4,Data!$C$2:$C$2074,'Recon (MARION ONLY)'!L10) -> 250254.68 | M12: =SUMIFS(Data!$E$2:$E$2074,Data!$B$2:$B$2074,'Recon (MARION ONLY)'!$C$4,Data!$C$2:$C$2074,'Recon (MARION ONLY)'!M10) -> 1237999.1 | N12: =SUMIFS(Data!$E$2:$E$2074,Data!$B$2:$B$2074,'Recon (MARION ONLY)'!$C$4,Data!$C$2:$C$2074,'Recon (MARION ONLY)'!N10) -> 9498.9899 | O12: =SUMIFS(Data!$E$2:$E$2074,Data!$B$2:$B$2074,'Recon (MARION ONLY)'!$C$4,Data!$C$2:$C$2074,'Recon (MARION ONLY)'!O10) -> 1.2160153e+08 | P12: =SUMIFS(Data!$E$2:$E$2074,Data!$B$2:$B$2074,'Recon (MARION ONLY)'!$C$4,Data!$C$2:$C$2074,'Recon (MARION ONLY)'!P10) -> 7688597.8 | ... BQ12: =SUMIFS(Data!$E$2:$E$2074,Data!$B$2:$B$2074,'Recon (MARION ONLY)'!$C$4,Data!$C$2:$C$2074,'Recon (MARION ONLY)'!BQ10) -> 16365309
A13: Less: Total Taxes Summary | C13: N/A | E13: Total Credits | G13: =SUMIFS(Data!$F$2:$F$2074,Data!$B$2:$B$2074,'Recon (MARION ONLY)'!$C$4) -> 2.1199706e+08 | I13: =SUMIFS(Data!$F$2:$F$2074,Data!$B$2:$B$2074,'Recon (MARION ONLY)'!$C$4,Data!$C$2:$C$2074,'Recon (MARION ONLY)'!I10) -> 21540544 | J13: =SUMIFS(Data!$F$2:$F$2074,Data!$B$2:$B$2074,'Recon (MARION ONLY)'!$C$4,Data!$C$2:$C$2074,'Recon (MARION ONLY)'!J10) -> 1752599.3 | K13: =SUMIFS(Data!$F$2:$F$2074,Data!$B$2:$B$2074,'Recon (MARION ONLY)'!$C$4,Data!$C$2:$C$2074,'Recon (MARION ONLY)'!K10) -> 9808816.9 | L13: =SUMIFS(Data!$F$2:$F$2074,Data!$B$2:$B$2074,'Recon (MARION ONLY)'!$C$4,Data!$C$2:$C$2074,'Recon (MARION ONLY)'!L10) -> 0 | M13: =SUMIFS(Data!$F$2:$F$2074,Data!$B$2:$B$2074,'Recon (MARION ONLY)'!$C$4,Data!$C$2:$C$2074,'Recon (MARION ONLY)'!M10) -> 0 | N13: =SUMIFS(Data!$F$2:$F$2074,Data!$B$2:$B$2074,'Recon (MARION ONLY)'!$C$4,Data!$C$2:$C$2074,'Recon (MARION ONLY)'!N10) -> 0 | O13: =SUMIFS(Data!$F$2:$F$2074,Data!$B$2:$B$2074,'Recon (MARION ONLY)'!$C$4,Data!$C$2:$C$2074,'Recon (MARION ONLY)'!O10) -> 23369022 | P13: =SUMIFS(Data!$F$2:$F$2074,Data!$B$2:$B$2074,'Recon (MARION ONLY)'!$C$4,Data!$C$2:$C$2074,'Recon (MARION ONLY)'!P10) -> 1112586.6 | ... BQ13: =SUMIFS(Data!$F$2:$F$2074,Data!$B$2:$B$2074,'Recon (MARION ONLY)'!$C$4,Data!$C$2:$C$2074,'Recon (MARION ONLY)'!BQ10) -> 5232296.4
A14: Plus: TIF Total Taxes Summary | C14: N/A | E14: TIF Total Levy | G14: =SUMIFS(Data!$Q$2:$Q$2074,Data!$B$2:$B$2074,'Recon (MARION ONLY)'!$C$4) -> 2.0421813e+08 | I14: =SUMIFS(Data!$Q$2:$Q$2074,Data!$B$2:$B$2074,'Recon (MARION ONLY)'!$C$4,Data!$C$2:$C$2074,'Recon (MARION ONLY)'!I10) -> 1.3618656e+08 | J14: =SUMIFS(Data!$Q$2:$Q$2074,Data!$B$2:$B$2074,'Recon (MARION ONLY)'!$C$4,Data!$C$2:$C$2074,'Recon (MARION ONLY)'!J10) -> 169917.36 | K14: =SUMIFS(Data!$Q$2:$Q$2074,Data!$B$2:$B$2074,'Recon (MARION ONLY)'!$C$4,Data!$C$2:$C$2074,'Recon (MARION ONLY)'!K10) -> 11995234 | L14: =SUMIFS(Data!$Q$2:$Q$2074,Data!$B$2:$B$2074,'Recon (MARION ONLY)'!$C$4,Data!$C$2:$C$2074,'Recon (MARION ONLY)'!L10) -> 0 | M14: =SUMIFS(Data!$Q$2:$Q$2074,Data!$B$2:$B$2074,'Recon (MARION ONLY)'!$C$4,Data!$C$2:$C$2074,'Recon (MARION ONLY)'!M10) -> 0 | N14: =SUMIFS(Data!$Q$2:$Q$2074,Data!$B$2:$B$2074,'Recon (MARION ONLY)'!$C$4,Data!$C$2:$C$2074,'Recon (MARION ONLY)'!N10) -> 858.2901 | O14: =SUMIFS(Data!$Q$2:$Q$2074,Data!$B$2:$B$2074,'Recon (MARION ONLY)'!$C$4,Data!$C$2:$C$2074,'Recon (MARION ONLY)'!O10) -> 489933.74 | P14: =SUMIFS(Data!$Q$2:$Q$2074,Data!$B$2:$B$2074,'Recon (MARION ONLY)'!$C$4,Data!$C$2:$C$2074,'Recon (MARION ONLY)'!P10) -> 355775.36 | ... BQ14: =SUMIFS(Data!$Q$2:$Q$2074,Data!$B$2:$B$2074,'Recon (MARION ONLY)'!$C$4,Data!$C$2:$C$2074,'Recon (MARION ONLY)'!BQ10) -> 0
A15: Less: TIF Circuit Breaker | C15: TIF Credits Detail | E15: TIF 1%,2%,3%,Over 65 Circuit Breaker | G15: =SUMIFS(Data!$R$2:$R$2074,Data!$B$2:$B$2074,'Recon (MARION ONLY)'!$C$4) -> 8275799.5 | I15: =SUMIFS(Data!$R$2:$R$2074,Data!$B$2:$B$2074,'Recon (MARION ONLY)'!$C$4,Data!$C$2:$C$2074,'Recon (MARION ONLY)'!I10) -> 4829162.8 | J15: =SUMIFS(Data!$R$2:$R$2074,Data!$B$2:$B$2074,'Recon (MARION ONLY)'!$C$4,Data!$C$2:$C$2074,'Recon (MARION ONLY)'!J10) -> 22866.42 | K15: =SUMIFS(Data!$R$2:$R$2074,Data!$B$2:$B$2074,'Recon (MARION ONLY)'!$C$4,Data!$C$2:$C$2074,'Recon (MARION ONLY)'!K10) -> 370374.4 | L15: =SUMIFS(Data!$R$2:$R$2074,Data!$B$2:$B$2074,'Recon (MARION ONLY)'!$C$4,Data!$C$2:$C$2074,'Recon (MARION ONLY)'!L10) -> 0 | M15: =SUMIFS(Data!$R$2:$R$2074,Data!$B$2:$B$2074,'Recon (MARION ONLY)'!$C$4,Data!$C$2:$C$2074,'Recon (MARION ONLY)'!M10) -> 0 | N15: =SUMIFS(Data!$R$2:$R$2074,Data!$B$2:$B$2074,'Recon (MARION ONLY)'!$C$4,Data!$C$2:$C$2074,'Recon (MARION ONLY)'!N10) -> 0 | O15: =SUMIFS(Data!$R$2:$R$2074,Data!$B$2:$B$2074,'Recon (MARION ONLY)'!$C$4,Data!$C$2:$C$2074,'Recon (MARION ONLY)'!O10) -> 114.6 | P15: =SUMIFS(Data!$R$2:$R$2074,Data!$B$2:$B$2074,'Recon (MARION ONLY)'!$C$4,Data!$C$2:$C$2074,'Recon (MARION ONLY)'!P10) -> 35980.86 | ... BQ15: =SUMIFS(Data!$R$2:$R$2074,Data!$B$2:$B$2074,'Recon (MARION ONLY)'!$C$4,Data!$C$2:$C$2074,'Recon (MARION ONLY)'!BQ10) -> 0
A16: Less: TIF LIT PTRC - All Property | C16: TIF Credits Detail | E16: TIF LIT PTRC - All Property | G16: =SUMIFS(Data!$S$2:$S$2074,Data!$B$2:$B$2074,'Recon (MARION ONLY)'!$C$4) -> 29414.75 | I16: =SUMIFS(Data!$S$2:$S$2074,Data!$B$2:$B$2074,'Recon (MARION ONLY)'!$C$4,Data!$C$2:$C$2074,'Recon (MARION ONLY)'!I10) -> 18738.21 | J16: =SUMIFS(Data!$S$2:$S$2074,Data!$B$2:$B$2074,'Recon (MARION ONLY)'!$C$4,Data!$C$2:$C$2074,'Recon (MARION ONLY)'!J10) -> 0 | K16: =SUMIFS(Data!$S$2:$S$2074,Data!$B$2:$B$2074,'Recon (MARION ONLY)'!$C$4,Data!$C$2:$C$2074,'Recon (MARION ONLY)'!K10) -> 1203.9 | L16: =SUMIFS(Data!$S$2:$S$2074,Data!$B$2:$B$2074,'Recon (MARION ONLY)'!$C$4,Data!$C$2:$C$2074,'Recon (MARION ONLY)'!L10) -> 0 | M16: =SUMIFS(Data!$S$2:$S$2074,Data!$B$2:$B$2074,'Recon (MARION ONLY)'!$C$4,Data!$C$2:$C$2074,'Recon (MARION ONLY)'!M10) -> 0 | N16: =SUMIFS(Data!$S$2:$S$2074,Data!$B$2:$B$2074,'Recon (MARION ONLY)'!$C$4,Data!$C$2:$C$2074,'Recon (MARION ONLY)'!N10) -> 0 | O16: =SUMIFS(Data!$S$2:$S$2074,Data!$B$2:$B$2074,'Recon (MARION ONLY)'!$C$4,Data!$C$2:$C$2074,'Recon (MARION ONLY)'!O10) -> 0 | P16: =SUMIFS(Data!$S$2:$S$2074,Data!$B$2:$B$2074,'Recon (MARION ONLY)'!$C$4,Data!$C$2:$C$2074,'Recon (MARION ONLY)'!P10) -> 0 | ... BQ16: =SUMIFS(Data!$S$2:$S$2074,Data!$B$2:$B$2074,'Recon (MARION ONLY)'!$C$4,Data!$C$2:$C$2074,'Recon (MARION ONLY)'!BQ10) -> 0
A17: Gateway Abstract Current Property Taxes (Net Tax) | G17: =G12-G13+G14-G15-G16 -> 1.8608275e+09 | I17: =I12-I13+I14-I15-I16 -> 4.1759108e+08 | J17: =J12-J13+J14-J15-J16 -> 6437090.9 | K17: =K12-K13+K14-K15-K16 -> 82732265 | L17: =L12-L13+L14-L15-L16 -> 250254.68 | M17: =M12-M13+M14-M15-M16 -> 1237999.1 | N17: =N12-N13+N14-N15-N16 -> 10357.28 | O17: =O12-O13+O14-O15-O16 -> 98722330 | P17: =P12-P13+P14-P15-P16 -> 6895805.7 | ... BQ17: =BQ12-BQ13+BQ14-BQ15-BQ16 -> 11133013
A18: Less: Amount to be entered on Form 105
A19: Variance | G19: =G17-G18 -> 1.8608275e+09 | I19: =I17-I18 -> 4.1759108e+08 | J19: =J17-J18 -> 6437090.9 | K19: =K17-K18 -> 82732265 | L19: =L17-L18 -> 250254.68 | M19: =M17-M18 -> 1237999.1 | N19: =N17-N18 -> 10357.28 | O19: =O17-O18 -> 98722330 | P19: =P17-P18 -> 6895805.7 | ... BQ19: =BQ17-BQ18 -> 11133013
A23: Calculation for Section A-1 Line 3 - Current Property Taxes (Property Tax Relief Column)
A25: Gateway | C25: Gateway | G25: Form 105 | I25: Taxing District (Form 102)
A26: Section | C26: Subsection | E26: Column | G26: Amount | I26: 101 | J26: 102 | K26: 200 | L26: 201 | M26: 270 | N26: 274 | O26: 300 | P26: 302 | Q26: 320 | R26: 376 | S26: 382 | T26: 400 | U26: 401 | V26: 407 | W26: 474 | X26: 476 | Y26: 500 | Z26: 501 | AA26: 502 | AB26: 513 | AC26: 520 | AD26: 523 | AE26: 570 | AF26: 574 | AG26: 576 | AH26: 600 | AI26: 601 | AJ26: 604 | AK26: 674 | AL26: 676 | AM26: 682 | AN26: 700 | AO26: 701 | AP26: 702 | AQ26: 716 | AR26: 724 | AS26: 770 | AT26: 774 | AU26: 776 | AV26: 800 | AW26: 801 | AX26: 805 | AY26: 806 | AZ26: 809 | BA26: 811 | BB26: 815 | BC26: 817 | BD26: 820 | BE26: 822 | BF26: 874 | BG26: 876 | BH26: 900 | BI26: 901 | BJ26: 904 | BK26: 914 | BL26: 930 | BM26: 970 | BN26: 974 | BO26: 976 | BP26: 979 | BQ26: 982
A28: Total Taxes Summary | C28: Credits Detail | E28: LIT PTRC - 1% AV | G28: =SUMIFS(Data!$I$2:$I$2074,Data!$B$2:$B$2074,'Recon (MARION ONLY)'!$C$4) -> 1649936 | I28: =SUMIFS(Data!$I$2:$I$2074,Data!$B$2:$B$2074,'Recon (MARION ONLY)'!$C$4,Data!$C$2:$C$2074,'Recon (MARION ONLY)'!I10) -> 144692.27 | J28: =SUMIFS(Data!$I$2:$I$2074,Data!$B$2:$B$2074,'Recon (MARION ONLY)'!$C$4,Data!$C$2:$C$2074,'Recon (MARION ONLY)'!J10) -> 5487.04 | K28: =SUMIFS(Data!$I$2:$I$2074,Data!$B$2:$B$2074,'Recon (MARION ONLY)'!$C$4,Data!$C$2:$C$2074,'Recon (MARION ONLY)'!K10) -> 59003.64 | L28: =SUMIFS(Data!$I$2:$I$2074,Data!$B$2:$B$2074,'Recon (MARION ONLY)'!$C$4,Data!$C$2:$C$2074,'Recon (MARION ONLY)'!L10) -> 0 | M28: =SUMIFS(Data!$I$2:$I$2074,Data!$B$2:$B$2074,'Recon (MARION ONLY)'!$C$4,Data!$C$2:$C$2074,'Recon (MARION ONLY)'!M10) -> 0 | N28: =SUMIFS(Data!$I$2:$I$2074,Data!$B$2:$B$2074,'Recon (MARION ONLY)'!$C$4,Data!$C$2:$C$2074,'Recon (MARION ONLY)'!N10) -> 0 | O28: =SUMIFS(Data!$I$2:$I$2074,Data!$B$2:$B$2074,'Recon (MARION ONLY)'!$C$4,Data!$C$2:$C$2074,'Recon (MARION ONLY)'!O10) -> 193525.38 | P28: =SUMIFS(Data!$I$2:$I$2074,Data!$B$2:$B$2074,'Recon (MARION ONLY)'!$C$4,Data!$C$2:$C$2074,'Recon (MARION ONLY)'!P10) -> 873.24 | ... BQ28: =SUMIFS(Data!$I$2:$I$2074,Data!$B$2:$B$2074,'Recon (MARION ONLY)'!$C$4,Data!$C$2:$C$2074,'Recon (MARION ONLY)'!BQ10) -> 19519.14
A29: Plus: Total Taxes Summary | C29: Credits Detail | E29: LIT PTRC - 2% AV | G29: =SUMIFS(Data!$J$2:$J$2074,Data!$B$2:$B$2074,'Recon (MARION ONLY)'!$C$4) -> 0 | I29: =SUMIFS(Data!$J$2:$J$2074,Data!$B$2:$B$2074,'Recon (MARION ONLY)'!$C$4,Data!$C$2:$C$2074,'Recon (MARION ONLY)'!I10) -> 0 | J29: =SUMIFS(Data!$J$2:$J$2074,Data!$B$2:$B$2074,'Recon (MARION ONLY)'!$C$4,Data!$C$2:$C$2074,'Recon (MARION ONLY)'!J10) -> 0 | K29: =SUMIFS(Data!$J$2:$J$2074,Data!$B$2:$B$2074,'Recon (MARION ONLY)'!$C$4,Data!$C$2:$C$2074,'Recon (MARION ONLY)'!K10) -> 0 | L29: =SUMIFS(Data!$J$2:$J$2074,Data!$B$2:$B$2074,'Recon (MARION ONLY)'!$C$4,Data!$C$2:$C$2074,'Recon (MARION ONLY)'!L10) -> 0 | M29: =SUMIFS(Data!$J$2:$J$2074,Data!$B$2:$B$2074,'Recon (MARION ONLY)'!$C$4,Data!$C$2:$C$2074,'Recon (MARION ONLY)'!M10) -> 0 | N29: =SUMIFS(Data!$J$2:$J$2074,Data!$B$2:$B$2074,'Recon (MARION ONLY)'!$C$4,Data!$C$2:$C$2074,'Recon (MARION ONLY)'!N10) -> 0 | O29: =SUMIFS(Data!$J$2:$J$2074,Data!$B$2:$B$2074,'Recon (MARION ONLY)'!$C$4,Data!$C$2:$C$2074,'Recon (MARION ONLY)'!O10) -> 0 | P29: =SUMIFS(Data!$J$2:$J$2074,Data!$B$2:$B$2074,'Recon (MARION ONLY)'!$C$4,Data!$C$2:$C$2074,'Recon (MARION ONLY)'!P10) -> 0 | ... BQ29: =SUMIFS(Data!$J$2:$J$2074,Data!$B$2:$B$2074,'Recon (MARION ONLY)'!$C$4,Data!$C$2:$C$2074,'Recon (MARION ONLY)'!BQ10) -> 0
A30: Plus: Total Taxes Summary | C30: Credits Detail | E30: LIT PTRC - 3% AV | G30: =SUMIFS(Data!$K$2:$K$2074,Data!$B$2:$B$2074,'Recon (MARION ONLY)'!$C$4) -> 0 | I30: =SUMIFS(Data!$K$2:$K$2074,Data!$B$2:$B$2074,'Recon (MARION ONLY)'!$C$4,Data!$C$2:$C$2074,'Recon (MARION ONLY)'!I10) -> 0 | J30: =SUMIFS(Data!$K$2:$K$2074,Data!$B$2:$B$2074,'Recon (MARION ONLY)'!$C$4,Data!$C$2:$C$2074,'Recon (MARION ONLY)'!J10) -> 0 | K30: =SUMIFS(Data!$K$2:$K$2074,Data!$B$2:$B$2074,'Recon (MARION ONLY)'!$C$4,Data!$C$2:$C$2074,'Recon (MARION ONLY)'!K10) -> 0 | L30: =SUMIFS(Data!$K$2:$K$2074,Data!$B$2:$B$2074,'Recon (MARION ONLY)'!$C$4,Data!$C$2:$C$2074,'Recon (MARION ONLY)'!L10) -> 0 | M30: =SUMIFS(Data!$K$2:$K$2074,Data!$B$2:$B$2074,'Recon (MARION ONLY)'!$C$4,Data!$C$2:$C$2074,'Recon (MARION ONLY)'!M10) -> 0 | N30: =SUMIFS(Data!$K$2:$K$2074,Data!$B$2:$B$2074,'Recon (MARION ONLY)'!$C$4,Data!$C$2:$C$2074,'Recon (MARION ONLY)'!N10) -> 0 | O30: =SUMIFS(Data!$K$2:$K$2074,Data!$B$2:$B$2074,'Recon (MARION ONLY)'!$C$4,Data!$C$2:$C$2074,'Recon (MARION ONLY)'!O10) -> 0 | P30: =SUMIFS(Data!$K$2:$K$2074,Data!$B$2:$B$2074,'Recon (MARION ONLY)'!$C$4,Data!$C$2:$C$2074,'Recon (MARION ONLY)'!P10) -> 0 | ... BQ30: =SUMIFS(Data!$K$2:$K$2074,Data!$B$2:$B$2074,'Recon (MARION ONLY)'!$C$4,Data!$C$2:$C$2074,'Recon (MARION ONLY)'!BQ10) -> 0
A31: Plus: Total Taxes Summary | C31: Credits Detail | E31: LIT PTRC - Residential Property | G31: =SUMIFS(Data!$L$2:$L$2074,Data!$B$2:$B$2074,'Recon (MARION ONLY)'!$C$4) -> 0 | I31: =SUMIFS(Data!$L$2:$L$2074,Data!$B$2:$B$2074,'Recon (MARION ONLY)'!$C$4,Data!$C$2:$C$2074,'Recon (MARION ONLY)'!I10) -> 0 | J31: =SUMIFS(Data!$L$2:$L$2074,Data!$B$2:$B$2074,'Recon (MARION ONLY)'!$C$4,Data!$C$2:$C$2074,'Recon (MARION ONLY)'!J10) -> 0 | K31: =SUMIFS(Data!$L$2:$L$2074,Data!$B$2:$B$2074,'Recon (MARION ONLY)'!$C$4,Data!$C$2:$C$2074,'Recon (MARION ONLY)'!K10) -> 0 | L31: =SUMIFS(Data!$L$2:$L$2074,Data!$B$2:$B$2074,'Recon (MARION ONLY)'!$C$4,Data!$C$2:$C$2074,'Recon (MARION ONLY)'!L10) -> 0 | M31: =SUMIFS(Data!$L$2:$L$2074,Data!$B$2:$B$2074,'Recon (MARION ONLY)'!$C$4,Data!$C$2:$C$2074,'Recon (MARION ONLY)'!M10) -> 0 | N31: =SUMIFS(Data!$L$2:$L$2074,Data!$B$2:$B$2074,'Recon (MARION ONLY)'!$C$4,Data!$C$2:$C$2074,'Recon (MARION ONLY)'!N10) -> 0 | O31: =SUMIFS(Data!$L$2:$L$2074,Data!$B$2:$B$2074,'Recon (MARION ONLY)'!$C$4,Data!$C$2:$C$2074,'Recon (MARION ONLY)'!O10) -> 0 | P31: =SUMIFS(Data!$L$2:$L$2074,Data!$B$2:$B$2074,'Recon (MARION ONLY)'!$C$4,Data!$C$2:$C$2074,'Recon (MARION ONLY)'!P10) -> 0 | ... BQ31: =SUMIFS(Data!$L$2:$L$2074,Data!$B$2:$B$2074,'Recon (MARION ONLY)'!$C$4,Data!$C$2:$C$2074,'Recon (MARION ONLY)'!BQ10) -> 0
A32: Plus: Total Taxes Summary | C32: Credits Detail | E32: LIT PTRC - All Property | G32: =SUMIFS(Data!$M$2:$M$2074,Data!$B$2:$B$2074,'Recon (MARION ONLY)'!$C$4) -> 0 | I32: =SUMIFS(Data!$M$2:$M$2074,Data!$B$2:$B$2074,'Recon (MARION ONLY)'!$C$4,Data!$C$2:$C$2074,'Recon (MARION ONLY)'!I10) -> 0 | J32: =SUMIFS(Data!$M$2:$M$2074,Data!$B$2:$B$2074,'Recon (MARION ONLY)'!$C$4,Data!$C$2:$C$2074,'Recon (MARION ONLY)'!J10) -> 0 | K32: =SUMIFS(Data!$M$2:$M$2074,Data!$B$2:$B$2074,'Recon (MARION ONLY)'!$C$4,Data!$C$2:$C$2074,'Recon (MARION ONLY)'!K10) -> 0 | L32: =SUMIFS(Data!$M$2:$M$2074,Data!$B$2:$B$2074,'Recon (MARION ONLY)'!$C$4,Data!$C$2:$C$2074,'Recon (MARION ONLY)'!L10) -> 0 | M32: =SUMIFS(Data!$M$2:$M$2074,Data!$B$2:$B$2074,'Recon (MARION ONLY)'!$C$4,Data!$C$2:$C$2074,'Recon (MARION ONLY)'!M10) -> 0 | N32: =SUMIFS(Data!$M$2:$M$2074,Data!$B$2:$B$2074,'Recon (MARION ONLY)'!$C$4,Data!$C$2:$C$2074,'Recon (MARION ONLY)'!N10) -> 0 | O32: =SUMIFS(Data!$M$2:$M$2074,Data!$B$2:$B$2074,'Recon (MARION ONLY)'!$C$4,Data!$C$2:$C$2074,'Recon (MARION ONLY)'!O10) -> 0 | P32: =SUMIFS(Data!$M$2:$M$2074,Data!$B$2:$B$2074,'Recon (MARION ONLY)'!$C$4,Data!$C$2:$C$2074,'Recon (MARION ONLY)'!P10) -> 0 | ... BQ32: =SUMIFS(Data!$M$2:$M$2074,Data!$B$2:$B$2074,'Recon (MARION ONLY)'!$C$4,Data!$C$2:$C$2074,'Recon (MARION ONLY)'!BQ10) -> 0
A33: Plus TIF Total Taxes Summary | C33: TIF Credits Detail | E33: Total of TIF LIT PTRC Columns | G33: =SUMIFS(Data!$S$2:$S$2074,Data!$B$2:$B$2074,'Recon (MARION ONLY)'!$C$4) -> 29414.75 | I33: =SUMIFS(Data!$S$2:$S$2074,Data!$B$2:$B$2074,'Recon (MARION ONLY)'!$C$4,Data!$C$2:$C$2074,'Recon (MARION ONLY)'!I10) -> 18738.21 | J33: =SUMIFS(Data!$S$2:$S$2074,Data!$B$2:$B$2074,'Recon (MARION ONLY)'!$C$4,Data!$C$2:$C$2074,'Recon (MARION ONLY)'!J10) -> 0 | K33: =SUMIFS(Data!$S$2:$S$2074,Data!$B$2:$B$2074,'Recon (MARION ONLY)'!$C$4,Data!$C$2:$C$2074,'Recon (MARION ONLY)'!K10) -> 1203.9 | L33: =SUMIFS(Data!$S$2:$S$2074,Data!$B$2:$B$2074,'Recon (MARION ONLY)'!$C$4,Data!$C$2:$C$2074,'Recon (MARION ONLY)'!L10) -> 0 | M33: =SUMIFS(Data!$S$2:$S$2074,Data!$B$2:$B$2074,'Recon (MARION ONLY)'!$C$4,Data!$C$2:$C$2074,'Recon (MARION ONLY)'!M10) -> 0 | N33: =SUMIFS(Data!$S$2:$S$2074,Data!$B$2:$B$2074,'Recon (MARION ONLY)'!$C$4,Data!$C$2:$C$2074,'Recon (MARION ONLY)'!N10) -> 0 | O33: =SUMIFS(Data!$S$2:$S$2074,Data!$B$2:$B$2074,'Recon (MARION ONLY)'!$C$4,Data!$C$2:$C$2074,'Recon (MARION ONLY)'!O10) -> 0 | P33: =SUMIFS(Data!$S$2:$S$2074,Data!$B$2:$B$2074,'Recon (MARION ONLY)'!$C$4,Data!$C$2:$C$2074,'Recon (MARION ONLY)'!P10) -> 0 | ... BQ33: =SUMIFS(Data!$S$2:$S$2074,Data!$B$2:$B$2074,'Recon (MARION ONLY)'!$C$4,Data!$C$2:$C$2074,'Recon (MARION ONLY)'!BQ10) -> 0
A34: Gateway Abstract Current Property Taxes (PTR) | G34: =G28+G29+G31+G30+G32+G33 -> 1679350.8 | I34: =I28+I29+I31+I30+I32+I33 -> 163430.48 | J34: =J28+J29+J31+J30+J32+J33 -> 5487.04 | K34: =K28+K29+K31+K30+K32+K33 -> 60207.54 | L34: =L28+L29+L31+L30+L32+L33 -> 0 | M34: =M28+M29+M31+M30+M32+M33 -> 0 | N34: =N28+N29+N31+N30+N32+N33 -> 0 | O34: =O28+O29+O31+O30+O32+O33 -> 193525.38 | P34: =P28+P29+P31+P30+P32+P33 -> 873.24 | ... BQ34: =BQ28+BQ29+BQ31+BQ30+BQ32+BQ33 -> 19519.14
A35: Less: Amount to be entered on Form 105
A36: Variance | G36: =G34-G35 -> 1679350.8 | I36: =I34-I35 -> 163430.48 | J36: =J34-J35 -> 5487.04 | K36: =K34-K35 -> 60207.54 | L36: =L34-L35 -> 0 | M36: =M34-M35 -> 0 | N36: =N34-N35 -> 0 | O36: =O34-O35 -> 193525.38 | P36: =P34-P35 -> 873.24 | ... BQ36: =BQ34-BQ35 -> 19519.14
A40: Calculation for Section A-1 Line 4 - Late Assessment Penalty
A42: Gateway | C42: Gateway | G42: Form 105 | I42: Taxing District (Form 102)
A43: Section | C43: Subsection | E43: Column | G43: Amount | I43: 101 | J43: 102 | K43: 200 | L43: 201 | M43: 270 | N43: 274 | O43: 300 | P43: 302 | Q43: 320 | R43: 376 | S43: 382 | T43: 400 | U43: 401 | V43: 407 | W43: 474 | X43: 476 | Y43: 500 | Z43: 501 | AA43: 502 | AB43: 513 | AC43: 520 | AD43: 523 | AE43: 570 | AF43: 574 | AG43: 576 | AH43: 600 | AI43: 601 | AJ43: 604 | AK43: 674 | AL43: 676 | AM43: 682 | AN43: 700 | AO43: 701 | AP43: 702 | AQ43: 716 | AR43: 724 | AS43: 770 | AT43: 774 | AU43: 776 | AV43: 800 | AW43: 801 | AX43: 805 | AY43: 806 | AZ43: 809 | BA43: 811 | BB43: 815 | BC43: 817 | BD43: 820 | BE43: 822 | BF43: 874 | BG43: 876 | BH43: 900 | BI43: 901 | BJ43: 904 | BK43: 914 | BL43: 930 | BM43: 970 | BN43: 974 | BO43: 976 | BP43: 979 | BQ43: 982
A45: Total Taxes Summary | C45: Penalties and Interest Detail | E45: Personal Property Late Assessment Penalties | G45: =SUMIFS(Data!$O$2:$O$2074,Data!$B$2:$B$2074,'Recon (MARION ONLY)'!$C$4) -> 1104103.5 | I45: =SUMIFS(Data!$O$2:$O$2074,Data!$B$2:$B$2074,'Recon (MARION ONLY)'!$C$4,Data!$C$2:$C$2074,'Recon (MARION ONLY)'!I10) -> 272550.13 | J45: =SUMIFS(Data!$O$2:$O$2074,Data!$B$2:$B$2074,'Recon (MARION ONLY)'!$C$4,Data!$C$2:$C$2074,'Recon (MARION ONLY)'!J10) -> 2671.07 | K45: =SUMIFS(Data!$O$2:$O$2074,Data!$B$2:$B$2074,'Recon (MARION ONLY)'!$C$4,Data!$C$2:$C$2074,'Recon (MARION ONLY)'!K10) -> 21872.21 | L45: =SUMIFS(Data!$O$2:$O$2074,Data!$B$2:$B$2074,'Recon (MARION ONLY)'!$C$4,Data!$C$2:$C$2074,'Recon (MARION ONLY)'!L10) -> 410.45 | M45: =SUMIFS(Data!$O$2:$O$2074,Data!$B$2:$B$2074,'Recon (MARION ONLY)'!$C$4,Data!$C$2:$C$2074,'Recon (MARION ONLY)'!M10) -> 0 | N45: =SUMIFS(Data!$O$2:$O$2074,Data!$B$2:$B$2074,'Recon (MARION ONLY)'!$C$4,Data!$C$2:$C$2074,'Recon (MARION ONLY)'!N10) -> 25 | O45: =SUMIFS(Data!$O$2:$O$2074,Data!$B$2:$B$2074,'Recon (MARION ONLY)'!$C$4,Data!$C$2:$C$2074,'Recon (MARION ONLY)'!O10) -> 15963.37 | P45: =SUMIFS(Data!$O$2:$O$2074,Data!$B$2:$B$2074,'Recon (MARION ONLY)'!$C$4,Data!$C$2:$C$2074,'Recon (MARION ONLY)'!P10) -> 8737.48 | ... BQ45: =SUMIFS(Data!$O$2:$O$2074,Data!$B$2:$B$2074,'Recon (MARION ONLY)'!$C$4,Data!$C$2:$C$2074,'Recon (MARION ONLY)'!BQ10) -> 6224.33
A46: Plus: Total Taxes Summary | C46: Penalties and Interest Detail | E46: Oil and Gas Late Assessment Penalties | G46: =SUMIFS(Data!$P$2:$P$2074,Data!$B$2:$B$2074,'Recon (MARION ONLY)'!$C$4) -> 0 | I46: =SUMIFS(Data!$P$2:$P$2074,Data!$B$2:$B$2074,'Recon (MARION ONLY)'!$C$4,Data!$C$2:$C$2074,'Recon (MARION ONLY)'!I10) -> 0 | J46: =SUMIFS(Data!$P$2:$P$2074,Data!$B$2:$B$2074,'Recon (MARION ONLY)'!$C$4,Data!$C$2:$C$2074,'Recon (MARION ONLY)'!J10) -> 0 | K46: =SUMIFS(Data!$P$2:$P$2074,Data!$B$2:$B$2074,'Recon (MARION ONLY)'!$C$4,Data!$C$2:$C$2074,'Recon (MARION ONLY)'!K10) -> 0 | L46: =SUMIFS(Data!$P$2:$P$2074,Data!$B$2:$B$2074,'Recon (MARION ONLY)'!$C$4,Data!$C$2:$C$2074,'Recon (MARION ONLY)'!L10) -> 0 | M46: =SUMIFS(Data!$P$2:$P$2074,Data!$B$2:$B$2074,'Recon (MARION ONLY)'!$C$4,Data!$C$2:$C$2074,'Recon (MARION ONLY)'!M10) -> 0 | N46: =SUMIFS(Data!$P$2:$P$2074,Data!$B$2:$B$2074,'Recon (MARION ONLY)'!$C$4,Data!$C$2:$C$2074,'Recon (MARION ONLY)'!N10) -> 0 | O46: =SUMIFS(Data!$P$2:$P$2074,Data!$B$2:$B$2074,'Recon (MARION ONLY)'!$C$4,Data!$C$2:$C$2074,'Recon (MARION ONLY)'!O10) -> 0 | P46: =SUMIFS(Data!$P$2:$P$2074,Data!$B$2:$B$2074,'Recon (MARION ONLY)'!$C$4,Data!$C$2:$C$2074,'Recon (MARION ONLY)'!P10) -> 0 | ... BQ46: =SUMIFS(Data!$P$2:$P$2074,Data!$B$2:$B$2074,'Recon (MARION ONLY)'!$C$4,Data!$C$2:$C$2074,'Recon (MARION ONLY)'!BQ10) -> 0
A47: Plus: TIF Total Taxes Summary | C47: TIF Penalties and Interest Detail | E47: TIF Late Assessment Penalties | G47: =SUMIFS(Data!$U$2:$U$2074,Data!$B$2:$B$2074,'Recon (MARION ONLY)'!$C$4) -> 832.58 | I47: =SUMIFS(Data!$U$2:$U$2074,Data!$B$2:$B$2074,'Recon (MARION ONLY)'!$C$4,Data!$C$2:$C$2074,'Recon (MARION ONLY)'!I10) -> 0 | J47: =SUMIFS(Data!$U$2:$U$2074,Data!$B$2:$B$2074,'Recon (MARION ONLY)'!$C$4,Data!$C$2:$C$2074,'Recon (MARION ONLY)'!J10) -> 0 | K47: =SUMIFS(Data!$U$2:$U$2074,Data!$B$2:$B$2074,'Recon (MARION ONLY)'!$C$4,Data!$C$2:$C$2074,'Recon (MARION ONLY)'!K10) -> 0 | L47: =SUMIFS(Data!$U$2:$U$2074,Data!$B$2:$B$2074,'Recon (MARION ONLY)'!$C$4,Data!$C$2:$C$2074,'Recon (MARION ONLY)'!L10) -> 0 | M47: =SUMIFS(Data!$U$2:$U$2074,Data!$B$2:$B$2074,'Recon (MARION ONLY)'!$C$4,Data!$C$2:$C$2074,'Recon (MARION ONLY)'!M10) -> 0 | N47: =SUMIFS(Data!$U$2:$U$2074,Data!$B$2:$B$2074,'Recon (MARION ONLY)'!$C$4,Data!$C$2:$C$2074,'Recon (MARION ONLY)'!N10) -> 0 | O47: =SUMIFS(Data!$U$2:$U$2074,Data!$B$2:$B$2074,'Recon (MARION ONLY)'!$C$4,Data!$C$2:$C$2074,'Recon (MARION ONLY)'!O10) -> 0 | P47: =SUMIFS(Data!$U$2:$U$2074,Data!$B$2:$B$2074,'Recon (MARION ONLY)'!$C$4,Data!$C$2:$C$2074,'Recon (MARION ONLY)'!P10) -> 0 | ... BQ47: =SUMIFS(Data!$U$2:$U$2074,Data!$B$2:$B$2074,'Recon (MARION ONLY)'!$C$4,Data!$C$2:$C$2074,'Recon (MARION ONLY)'!BQ10) -> 0
A48: Gateway Abstract Late Assessment Penalties | G48: =SUM(G45:G47) -> 1104936.1 | I48: =SUM(I45:I47) -> 272550.13 | J48: =SUM(J45:J47) -> 2671.07 | K48: =SUM(K45:K47) -> 21872.21 | L48: =SUM(L45:L47) -> 410.45 | M48: =SUM(M45:M47) -> 0 | N48: =SUM(N45:N47) -> 25 | O48: =SUM(O45:O47) -> 15963.37 | P48: =SUM(P45:P47) -> 8737.48 | ... BQ48: =SUM(BQ45:BQ47) -> 6224.33
A49: Less: Amount to be entered on Form 105
A50: Variance | G50: =G48-G49 -> 1104936.1 | I50: =I47-I49 -> 0 | J50: =J47-J49 -> 0 | K50: =K47-K49 -> 0 | L50: =L47-L49 -> 0 | M50: =M47-M49 -> 0 | N50: =N47-N49 -> 0 | O50: =O47-O49 -> 0 | P50: =P47-P49 -> 0 | ... BQ50: =BQ47-BQ49 -> 0
A53: Calculation for Section A-1 Line 5 - Statement Processing Charge
A55: Gateway | C55: Gateway | G55: Form 105 | I55: Taxing District (Form 102)
A56: Section | C56: Subsection | E56: Column | G56: Amount | I56: 101 | J56: 102 | K56: 200 | L56: 201 | M56: 270 | N56: 274 | O56: 300 | P56: 302 | Q56: 320 | R56: 376 | S56: 382 | T56: 400 | U56: 401 | V56: 407 | W56: 474 | X56: 476 | Y56: 500 | Z56: 501 | AA56: 502 | AB56: 513 | AC56: 520 | AD56: 523 | AE56: 570 | AF56: 574 | AG56: 576 | AH56: 600 | AI56: 601 | AJ56: 604 | AK56: 674 | AL56: 676 | AM56: 682 | AN56: 700 | AO56: 701 | AP56: 702 | AQ56: 716 | AR56: 724 | AS56: 770 | AT56: 774 | AU56: 776 | AV56: 800 | AW56: 801 | AX56: 805 | AY56: 806 | AZ56: 809 | BA56: 811 | BB56: 815 | BC56: 817 | BD56: 820 | BE56: 822 | BF56: 874 | BG56: 876 | BH56: 900 | BI56: 901 | BJ56: 904 | BK56: 914 | BL56: 930 | BM56: 970 | BN56: 974 | BO56: 976 | BP56: 979 | BQ56: 982
A58: Total Taxes Summary | C58: N/A | E58: Statement Processing Charges | G58: =SUMIFS(Data!$G$2:$G$2074,Data!$B$2:$B$2074,'Recon (MARION ONLY)'!$C$4) -> 2703.95 | I58: =SUMIFS(Data!$G$2:$G$2074,Data!$B$2:$B$2074,'Recon (MARION ONLY)'!$C$4,Data!$C$2:$C$2074,'Recon (MARION ONLY)'!I10) -> 869.21 | J58: =SUMIFS(Data!$G$2:$G$2074,Data!$B$2:$B$2074,'Recon (MARION ONLY)'!$C$4,Data!$C$2:$C$2074,'Recon (MARION ONLY)'!J10) -> 29.58 | K58: =SUMIFS(Data!$G$2:$G$2074,Data!$B$2:$B$2074,'Recon (MARION ONLY)'!$C$4,Data!$C$2:$C$2074,'Recon (MARION ONLY)'!K10) -> 23.94 | L58: =SUMIFS(Data!$G$2:$G$2074,Data!$B$2:$B$2074,'Recon (MARION ONLY)'!$C$4,Data!$C$2:$C$2074,'Recon (MARION ONLY)'!L10) -> 14.4 | M58: =SUMIFS(Data!$G$2:$G$2074,Data!$B$2:$B$2074,'Recon (MARION ONLY)'!$C$4,Data!$C$2:$C$2074,'Recon (MARION ONLY)'!M10) -> 3.56 | N58: =SUMIFS(Data!$G$2:$G$2074,Data!$B$2:$B$2074,'Recon (MARION ONLY)'!$C$4,Data!$C$2:$C$2074,'Recon (MARION ONLY)'!N10) -> 0 | O58: =SUMIFS(Data!$G$2:$G$2074,Data!$B$2:$B$2074,'Recon (MARION ONLY)'!$C$4,Data!$C$2:$C$2074,'Recon (MARION ONLY)'!O10) -> 40.37 | P58: =SUMIFS(Data!$G$2:$G$2074,Data!$B$2:$B$2074,'Recon (MARION ONLY)'!$C$4,Data!$C$2:$C$2074,'Recon (MARION ONLY)'!P10) -> 5.2 | ... BQ58: =SUMIFS(Data!$G$2:$G$2074,Data!$B$2:$B$2074,'Recon (MARION ONLY)'!$C$4,Data!$C$2:$C$2074,'Recon (MARION ONLY)'!BQ10) -> 17.93
A59: Plus: Total Taxes Summary | C59: N/A | E59: Statement Processing Charges Oil and Gas | G59: =SUMIFS(Data!$H$2:$H$2074,Data!$B$2:$B$2074,'Recon (MARION ONLY)'!$C$4) -> 0 | I59: =SUMIFS(Data!$H$2:$H$2074,Data!$B$2:$B$2074,'Recon (MARION ONLY)'!$C$4,Data!$C$2:$C$2074,'Recon (MARION ONLY)'!I10) -> 0 | J59: =SUMIFS(Data!$H$2:$H$2074,Data!$B$2:$B$2074,'Recon (MARION ONLY)'!$C$4,Data!$C$2:$C$2074,'Recon (MARION ONLY)'!J10) -> 0 | K59: =SUMIFS(Data!$H$2:$H$2074,Data!$B$2:$B$2074,'Recon (MARION ONLY)'!$C$4,Data!$C$2:$C$2074,'Recon (MARION ONLY)'!K10) -> 0 | L59: =SUMIFS(Data!$H$2:$H$2074,Data!$B$2:$B$2074,'Recon (MARION ONLY)'!$C$4,Data!$C$2:$C$2074,'Recon (MARION ONLY)'!L10) -> 0 | M59: =SUMIFS(Data!$H$2:$H$2074,Data!$B$2:$B$2074,'Recon (MARION ONLY)'!$C$4,Data!$C$2:$C$2074,'Recon (MARION ONLY)'!M10) -> 0 | N59: =SUMIFS(Data!$H$2:$H$2074,Data!$B$2:$B$2074,'Recon (MARION ONLY)'!$C$4,Data!$C$2:$C$2074,'Recon (MARION ONLY)'!N10) -> 0 | O59: =SUMIFS(Data!$H$2:$H$2074,Data!$B$2:$B$2074,'Recon (MARION ONLY)'!$C$4,Data!$C$2:$C$2074,'Recon (MARION ONLY)'!O10) -> 0 | P59: =SUMIFS(Data!$H$2:$H$2074,Data!$B$2:$B$2074,'Recon (MARION ONLY)'!$C$4,Data!$C$2:$C$2074,'Recon (MARION ONLY)'!P10) -> 0 | ... BQ59: =SUMIFS(Data!$H$2:$H$2074,Data!$B$2:$B$2074,'Recon (MARION ONLY)'!$C$4,Data!$C$2:$C$2074,'Recon (MARION ONLY)'!BQ10) -> 0
A60: Plus: TIF Total Taxes Summary | C60: N/A | E60: TIF Statement Processing Charges | G60: =SUMIFS(Data!$V$2:$V$2074,Data!$B$2:$B$2074,'Recon (MARION ONLY)'!$C$4) -> 50.38 | I60: =SUMIFS(Data!$V$2:$V$2074,Data!$B$2:$B$2074,'Recon (MARION ONLY)'!$C$4,Data!$C$2:$C$2074,'Recon (MARION ONLY)'!I10) -> 46.94 | J60: =SUMIFS(Data!$V$2:$V$2074,Data!$B$2:$B$2074,'Recon (MARION ONLY)'!$C$4,Data!$C$2:$C$2074,'Recon (MARION ONLY)'!J10) -> 0 | K60: =SUMIFS(Data!$V$2:$V$2074,Data!$B$2:$B$2074,'Recon (MARION ONLY)'!$C$4,Data!$C$2:$C$2074,'Recon (MARION ONLY)'!K10) -> 0 | L60: =SUMIFS(Data!$V$2:$V$2074,Data!$B$2:$B$2074,'Recon (MARION ONLY)'!$C$4,Data!$C$2:$C$2074,'Recon (MARION ONLY)'!L10) -> 0 | M60: =SUMIFS(Data!$V$2:$V$2074,Data!$B$2:$B$2074,'Recon (MARION ONLY)'!$C$4,Data!$C$2:$C$2074,'Recon (MARION ONLY)'!M10) -> 0 | N60: =SUMIFS(Data!$V$2:$V$2074,Data!$B$2:$B$2074,'Recon (MARION ONLY)'!$C$4,Data!$C$2:$C$2074,'Recon (MARION ONLY)'!N10) -> 0 | O60: =SUMIFS(Data!$V$2:$V$2074,Data!$B$2:$B$2074,'Recon (MARION ONLY)'!$C$4,Data!$C$2:$C$2074,'Recon (MARION ONLY)'!O10) -> 0 | P60: =SUMIFS(Data!$V$2:$V$2074,Data!$B$2:$B$2074,'Recon (MARION ONLY)'!$C$4,Data!$C$2:$C$2074,'Recon (MARION ONLY)'!P10) -> 0 | ... BQ60: =SUMIFS(Data!$V$2:$V$2074,Data!$B$2:$B$2074,'Recon (MARION ONLY)'!$C$4,Data!$C$2:$C$2074,'Recon (MARION ONLY)'!BQ10) -> 0
...

Sheet Data
A1: County Name | B1: County Code | C1: Tax District Code | D1: Net Tax Due | E1: Gross Tax Due | F1: Total Credits | G1: Statement Processing Charges | H1: Oil & Gas Statement Processing Charges | I1: LIT PTRC-1% AV | J1: LIT PTRC-2% AV | K1: LIT PTRC-3% AV | L1: LIT PTRC-Residential Property | M1: LIT PTRC-All Property | N1: Total of Delinquent Tax, Penalties and Interest | O1: Personal Property Late Assessment Penalties | P1: Oil & Gas Late Assessment Penalties | Q1: Levy Captured by TIF | R1: TIF - Total CB | S1: TIF - Total PTRC | T1: TIF - Total of Delinquent Tax, Penalties and Interest | U1: TIF - Late Assessment Penalties | V1: TIF - Statement Processing Charges
A2: Adams | B2: 1 | C2: 001 | D2: 1151852.6 | E2: 1310186.6 | F2: 158334.01 | G2: 3.39 | H2: 0 | I2: 59866.13 | J2: 16333.24 | K2: 0 | L2: 27131.23 | M2: 0 | N2: 25462.11 | O2: 0 | P2: 0 | Q2: 0 | R2: 0 | S2: 0 | T2: 0 | U2: 0 | V2: 0
A3: Adams | B3: 1 | C3: 002 | D3: 202881.18 | E3: 226339.56 | F3: 23458.38 | G3: 7.26 | H3: 0 | I3: 8029.17 | J3: 3424.49 | K3: 0 | L3: 5162.73 | M3: 0 | N3: 8861.05 | O3: 0 | P3: 0 | Q3: 0 | R3: 0 | S3: 0 | T3: 0 | U3: 0 | V3: 0
A4: Adams | B4: 1 | C4: 003 | D4: 1229835.6 | E4: 1375076.9 | F4: 145241.28 | G4: 5.3 | H4: 0 | I4: 59524.44 | J4: 15398.87 | K4: 0 | L4: 20110.4 | M4: 0 | N4: 33873.76 | O4: 25 | P4: 0 | Q4: 0 | R4: 0 | S4: 0 | T4: 0 | U4: 0 | V4: 0
A5: Adams | B5: 1 | C5: 004 | D5: 251799.12 | E5: 279885.16 | F5: 28086.04 | G5: 14.56 | H5: 0 | I5: 10177.88 | J5: 3141.27 | K5: 0 | L5: 4422.85 | M5: 0 | N5: 4376.23 | O5: 0 | P5: 0 | Q5: 0 | R5: 0 | S5: 0 | T5: 0 | U5: 0 | V5: 0
A6: Adams | B6: 1 | C6: 005 | D6: 1185370.3 | E6: 1319095.2 | F6: 133724.92 | G6: 16.02 | H6: 0 | I6: 46730.03 | J6: 18589.94 | K6: 0 | L6: 24054.44 | M6: 0 | N6: 27659.64 | O6: 0 | P6: 0 | Q6: 0 | R6: 0 | S6: 0 | T6: 0 | U6: 0 | V6: 0
A7: Adams | B7: 1 | C7: 006 | D7: 1267813.4 | E7: 1394864.1 | F7: 127050.77 | G7: 0 | H7: 0 | I7: 45562.89 | J7: 18283.14 | K7: 0 | L7: 23424.04 | M7: 0 | N7: 22784.59 | O7: 0 | P7: 0 | Q7: 0 | R7: 0 | S7: 0 | T7: 0 | U7: 0 | V7: 0
A8: Adams | B8: 1 | C8: 007 | D8: 1513945.6 | E8: 1690862.6 | F8: 176916.95 | G8: 15.67 | H8: 0 | I8: 68476.34 | J8: 20212.9 | K8: 0 | L8: 28790.3 | M8: 0 | N8: 46388.81 | O8: 50 | P8: 0 | Q8: 0 | R8: 0 | S8: 0 | T8: 0 | U8: 0 | V8: 0
A9: Adams | B9: 1 | C9: 008 | D9: 2312818.8 | E9: 2607117.5 | F9: 294298.68 | G9: 6.82 | H9: 0 | I9: 116237.23 | J9: 24779.56 | K9: 0 | L9: 60258.33 | M9: 0 | N9: 71321.17 | O9: 50 | P9: 0 | Q9: 0 | R9: 0 | S9: 0 | T9: 0 | U9: 0 | V9: 0
A10: Adams | B10: 1 | C10: 009 | D10: 838146.76 | E10: 915120.52 | F10: 76973.76 | G10: 3.4 | H10: 0 | I10: 25051.41 | J10: 8778.23 | K10: 0 | L10: 21185.37 | M10: 0 | N10: 13922.96 | O10: 25 | P10: 0 | Q10: 0 | R10: 0 | S10: 0 | T10: 0 | U10: 0 | V10: 0
A11: Adams | B11: 1 | C11: 010 | D11: 4135368.6 | E11: 2565915.3 | F11: 292555.23 | G11: 1 | H11: 0 | I11: 71542.31 | J11: 9080.41 | K11: 0 | L11: 64004.6 | M11: 0 | N11: 34124.1 | O11: 25 | P11: 0 | Q11: 1863969 | R11: 1156.4 | S11: 804.07 | T11: 3462.53 | U11: 0 | V11: 0
A12: Adams | B12: 1 | C12: 011 | D12: 560164.9 | E12: 684181.47 | F12: 124016.57 | G12: 0.95 | H12: 0 | I12: 48753.96 | J12: 1830.19 | K12: 0 | L12: 13104.27 | M12: 0 | N12: 10787.45 | O12: 0 | P12: 0 | Q12: 0 | R12: 0 | S12: 0 | T12: 0 | U12: 0 | V12: 0
A13: Adams | B13: 1 | C13: 012 | D13: 1532187 | E13: 1746614.8 | F13: 214427.81 | G13: 2.62 | H13: 0 | I13: 78874.71 | J13: 20978.21 | K13: 0 | L13: 40892.86 | M13: 0 | N13: 20899.08 | O13: 0 | P13: 0 | Q13: 0 | R13: 0 | S13: 0 | T13: 0 | U13: 0 | V13: 0
... A2102: Whitley | B2102: 92 | C2102: 017 | D2102: 12258.34 | E2102: 12069.979 | F2102: 0 | G2102: 0 | H2102: 0 | I2102: 0 | J2102: 0 | K2102: 0 | L2102: 0 | M2102: 0 | N2102: 0 | O2102: 0 | P2102: 0 | Q2102: 188.3607 | R2102: 0 | S2102: 0 | T2102: 0 | U2102: 0 | V2102: 0
